BEGIN:VCALENDAR
VERSION:2.0
PRODID:-//National Black Nurses Association - ECPv6.15.20//NONSGML v1.0//EN
CALSCALE:GREGORIAN
METHOD:PUBLISH
X-WR-CALNAME:National Black Nurses Association
X-ORIGINAL-URL:https://nbna.org
X-WR-CALDESC:Events for National Black Nurses Association
REFRESH-INTERVAL;VALUE=DURATION:PT1H
X-Robots-Tag:noindex
X-PUBLISHED-TTL:PT1H
BEGIN:VTIMEZONE
TZID:America/New_York
BEGIN:DAYLIGHT
TZOFFSETFROM:-0500
TZOFFSETTO:-0400
TZNAME:EDT
DTSTART:20270314T070000
END:DAYLIGHT
BEGIN:STANDARD
TZOFFSETFROM:-0400
TZOFFSETTO:-0500
TZNAME:EST
DTSTART:20271107T060000
END:STANDARD
BEGIN:DAYLIGHT
TZOFFSETFROM:-0500
TZOFFSETTO:-0400
TZNAME:EDT
DTSTART:20280312T070000
END:DAYLIGHT
BEGIN:STANDARD
TZOFFSETFROM:-0400
TZOFFSETTO:-0500
TZNAME:EST
DTSTART:20281105T060000
END:STANDARD
BEGIN:DAYLIGHT
TZOFFSETFROM:-0500
TZOFFSETTO:-0400
TZNAME:EDT
DTSTART:20290311T070000
END:DAYLIGHT
BEGIN:STANDARD
TZOFFSETFROM:-0400
TZOFFSETTO:-0500
TZNAME:EST
DTSTART:20291104T060000
END:STANDARD
END:VTIMEZONE
BEGIN:VEVENT
DTSTART;TZID=America/New_York:20280328T190000
DTEND;TZID=America/New_York:20280328T200000
DTSTAMP:20260423T064438
CREATED:20260328T231558Z
LAST-MODIFIED:20260423T010056Z
UID:10000793-1837882800-1837886400@nbna.org
SUMMARY:Grants and Research Committee
DESCRIPTION:
URL:https://nbna.org/event/grants-and-research-committee-5/
CATEGORIES:National NBNA Calendar
END:VEVENT
BEGIN:VEVENT
DTSTART;TZID=America/New_York:20280328T200000
DTEND;TZID=America/New_York:20280328T210000
DTSTAMP:20260423T064438
CREATED:20260329T231557Z
LAST-MODIFIED:20260423T010056Z
UID:10000794-1837886400-1837890000@nbna.org
SUMMARY:NBNA Oral Health Task Force
DESCRIPTION:
URL:https://nbna.org/event/nbna-oral-health-task-force-5/
CATEGORIES:National NBNA Calendar
END:VEVENT
BEGIN:VEVENT
DTSTART;TZID=America/New_York:20280411T190000
DTEND;TZID=America/New_York:20280411T200000
DTSTAMP:20260423T064438
CREATED:20260411T001559Z
LAST-MODIFIED:20260423T010056Z
UID:10000795-1839092400-1839096000@nbna.org
SUMMARY:Addressing HIV in Black Communities Task Force
DESCRIPTION:
URL:https://nbna.org/event/addressing-hiv-in-black-communities-task-force-32/
CATEGORIES:National NBNA Calendar
END:VEVENT
BEGIN:VEVENT
DTSTART;TZID=America/New_York:20280411T190000
DTEND;TZID=America/New_York:20280411T200000
DTSTAMP:20260423T064438
CREATED:20260411T001600Z
LAST-MODIFIED:20260423T010056Z
UID:10000796-1839092400-1839096000@nbna.org
SUMMARY:Artificial Intelligence Health Equity Task Force
DESCRIPTION:
URL:https://nbna.org/event/artificial-intelligence-health-equity-task-force-6/
CATEGORIES:National NBNA Calendar
END:VEVENT
BEGIN:VEVENT
DTSTART;TZID=America/New_York:20280411T190000
DTEND;TZID=America/New_York:20280411T200000
DTSTAMP:20260423T064438
CREATED:20260411T001600Z
LAST-MODIFIED:20260423T010056Z
UID:10000797-1839092400-1839096000@nbna.org
SUMMARY:Ad Hoc Committee on Nursing Education
DESCRIPTION:
URL:https://nbna.org/event/ad-hoc-committee-on-nursing-education-6/
CATEGORIES:National NBNA Calendar
END:VEVENT
BEGIN:VEVENT
DTSTART;TZID=America/New_York:20280413T190000
DTEND;TZID=America/New_York:20280413T200000
DTSTAMP:20260423T064438
CREATED:20260413T003057Z
LAST-MODIFIED:20260423T010056Z
UID:10000798-1839265200-1839268800@nbna.org
SUMMARY:Board of Directors Meeting
DESCRIPTION:
URL:https://nbna.org/event/board-of-directors-meeting-6/
CATEGORIES:National NBNA Calendar
END:VEVENT
BEGIN:VEVENT
DTSTART;TZID=America/New_York:20280417T194500
DTEND;TZID=America/New_York:20280417T204500
DTSTAMP:20260423T064438
CREATED:20260417T003122Z
LAST-MODIFIED:20260423T010056Z
UID:10000799-1839613500-1839617100@nbna.org
SUMMARY:Ad Hoc Committee on the LPN Council
DESCRIPTION:
URL:https://nbna.org/event/ad-hoc-committee-on-the-lpn-council-6/
CATEGORIES:National NBNA Calendar
END:VEVENT
BEGIN:VEVENT
DTSTART;TZID=America/New_York:20280418T190000
DTEND;TZID=America/New_York:20280418T200000
DTSTAMP:20260423T064438
CREATED:20260418T003101Z
LAST-MODIFIED:20260423T010056Z
UID:10000800-1839697200-1839700800@nbna.org
SUMMARY:Personnel Committee 2025
DESCRIPTION:
URL:https://nbna.org/event/personnel-committee-2025-6/
CATEGORIES:National NBNA Calendar
END:VEVENT
BEGIN:VEVENT
DTSTART;TZID=America/New_York:20280418T190000
DTEND;TZID=America/New_York:20280418T200000
DTSTAMP:20260423T064438
CREATED:20260418T003101Z
LAST-MODIFIED:20260423T010056Z
UID:10000801-1839697200-1839700800@nbna.org
SUMMARY:Scholarship and Awards Committee
DESCRIPTION:
URL:https://nbna.org/event/scholarship-and-awards-committee-6/
CATEGORIES:National NBNA Calendar
END:VEVENT
BEGIN:VEVENT
DTSTART;TZID=America/New_York:20280418T190000
DTEND;TZID=America/New_York:20280418T200000
DTSTAMP:20260423T064438
CREATED:20260418T003102Z
LAST-MODIFIED:20260423T010056Z
UID:10000802-1839697200-1839700800@nbna.org
SUMMARY:Ad Hoc Committee on Strategic Planning
DESCRIPTION:
URL:https://nbna.org/event/ad-hoc-committee-on-strategic-planning-6/
CATEGORIES:National NBNA Calendar
END:VEVENT
BEGIN:VEVENT
DTSTART;TZID=America/New_York:20280419T160000
DTEND;TZID=America/New_York:20280419T170000
DTSTAMP:20260423T064438
CREATED:20260419T003059Z
LAST-MODIFIED:20260423T010056Z
UID:10000803-1839772800-1839776400@nbna.org
SUMMARY:Nominating Committee
DESCRIPTION:
URL:https://nbna.org/event/nominating-committee-6/
CATEGORIES:National NBNA Calendar
END:VEVENT
BEGIN:VEVENT
DTSTART;TZID=America/New_York:20280419T180000
DTEND;TZID=America/New_York:20280419T190000
DTSTAMP:20260423T064438
CREATED:20260419T003100Z
LAST-MODIFIED:20260423T010056Z
UID:10000804-1839780000-1839783600@nbna.org
SUMMARY:Publicity and Public Relations Committee
DESCRIPTION:
URL:https://nbna.org/event/publicity-and-public-relations-committee-6/
CATEGORIES:National NBNA Calendar
END:VEVENT
BEGIN:VEVENT
DTSTART;TZID=America/New_York:20280420T180000
DTEND;TZID=America/New_York:20280420T190000
DTSTAMP:20260423T064438
CREATED:20260420T003058Z
LAST-MODIFIED:20260423T010056Z
UID:10000805-1839866400-1839870000@nbna.org
SUMMARY:Investment Committee
DESCRIPTION:
URL:https://nbna.org/event/investment-committee-6/
CATEGORIES:National NBNA Calendar
END:VEVENT
END:VCALENDAR